{"text_format":"3","workbook":"xlsx","n_sheets":8,"sheets":["Раздел0","Раздел1","Раздел2","Раздел3","Раздел4_1","Раздел4_2","Раздел5","Раздел6"],"not_rendered":{"macros":1,"defined_names":2},"read":"whole","date_system":"1900"}

{"sheet":"Раздел0","index":0,"n_rows":25,"n_cols":7,"rows_kept":25,"merged":[[1,0,1,5],[3,0,3,5],[5,0,5,5],[7,0,7,5],[9,0,9,5],[11,1,11,2],[13,0,13,2],[14,0,15,2],[14,3,15,3],[16,0,16,2],[17,0,17,2],[19,0,19,1],[19,2,19,6],[20,0,20,1],[20,2,20,6],[21,0,22,1],[21,2,21,6],[22,2,22,3],[22,4,22,5],[23,0,23,1],[23,2,23,3],[23,4,23,5],[24,0,24,1],[24,2,24,3],[24,4,24,5]]}
[]
["ФЕДЕРАЛЬНОЕ СТАТИСТИЧЕСКОЕ НАБЛЮДЕНИЕ"]
[]
["КОНФИДЕНЦИАЛЬНОСТЬ ГАРАНТИРУЕТСЯ ПОЛУЧАТЕЛЕМ ИНФОРМАЦИИ"]
[]
["Нарушение порядка представления статистической информации, а равно представление\nнедостоверной статистической информации влечет ответственность, установленную статьей\n13.19 Кодекса Российской Федерации об административных правонарушениях от 30.12.2001 N\n195-ФЗ, а также статьей 3 Закона Российской Федерации от 13.05.1992 N 2761-1 \"Об\nответственности за нарушение порядка представления государственной статистической\nотчетности\""]
[]
["ВОЗМОЖНО ПРЕДОСТАВЛЕНИЕ В ЭЛЕКТРОННОМ ВИДЕ"]
[]
["СВЕДЕНИЯ ОБ АДАПТИВНОЙ ФИЗИЧЕСКОЙ КУЛЬТУРЕ И СПОРТЕ"]
[]
[null,"по состоянию на 31 декабря 20",null,21,"г."]
[]
["Предоставляют: ",null,null,"Сроки\nпредоставления",null,"Форма N 3-АФК"]
["юридические лица, осуществляющие\nдеятельность по адаптивной физической\nкультуре и спорту:\nПриказ Росстата:\n- органу местного самоуправления\nгородских округов, муниципальных\nрайонов в области физической культуры\nи спорта,\n- территориальному органу\nисполнительной власти городов\nфедерального значения в области\nфизической культуры и спорта;",null,null,"15 января после\nотчетного периода",null,"Приказ Росстата:\nОб утверждении формы\nот 08.10.2018 г. N 603\nО внесении изменений\n(при наличии)\nот __________ N ___\nот __________ N ___"]
[{"$nulls":5},"Годовая"]
["органы местного самоуправления\nгородских округов, муниципальных\nрайонов в области физической культуры\nи спорта, территориальные органы\nисполнительной власти городов\nфедерального значения в области\nфизической культуры и спорта:\n- органу исполнительной власти\nсубъекта Российской Федерации в\nобласти физической культуры и спорта;",null,null,"25 января после\nотчетного периода"]
["органы исполнительной власти\nсубъектов Российской Федерации в\nобласти физической культуры и спорта:\n- Министерству спорта Российской\nФедерации",null,null,"10 февраля после\nотчетного периода"]
[]
["Наименование отчитывающейся организации ",null,"Министерство спорта и молодежной политики Кировской области"]
["Почтовый адрес ",null,"610000, г. Киров, ул. Карла Либкнехта, д. 69"]
["Код формы по ОКУД",null,"Код"]
[null,null,"отчитывающейся\nорганизации по ОКПО"]
[1,null,2,null,3,null,4]
["0609405",null,95319]

{"sheet":"Раздел1","index":1,"n_rows":33,"n_cols":23,"rows_kept":33,"merged":[[0,0,0,20],[1,0,1,20],[2,0,4,0],[2,1,4,1],[2,2,4,2],[2,3,2,7],[2,8,2,20],[3,3,4,3],[3,4,4,4],[3,5,3,7],[3,8,4,8],[3,9,3,14],[3,15,4,15],[3,16,3,20]]}
["Раздел I. Физкультурно-оздоровительная работа"]
["Коды по ОКЕИ: единица - 642; человек — 792"]
["Учреждения, осуществляющие работу с инвалидами","№ стро-ки","Количество учреж- дений, объеди-нений, орга- низаций, всего (ед.)","Численность штатных\nработников в области\nадаптивной физической\nкультуры и спорта",{"$nulls":4},"Численность занимающихся адаптивной физической культурой и спортом"]
[{"$nulls":3},"всего","из гр. 4  в сельской  мест-ности","из гр. 4  образование по специальности \"Адаптивная физическая культура и спорт\"",null,null,"всего"," в том числе в возрасте (из\nгр. 9):",{"$nulls":5},"в сельской местности","из общей численности занимающихся (гр. 9):"]
[{"$nulls":5},"высшее","среднее","иные\nспеци\nалист\nы",null,"от 0 до 3 лет","от 4 до 5 лет","от 6 до 18 лет","от 19 до 59 лет","от 60 до 79 лет","от 80 лет и стар-ше",null,"лица, имеющие инва-лидность по общему заболева-нию","лица с \nинтеллек-\nтуальными \nнаруше-\nниями","лица с \nнаруше-\nнием \nзрения","лица с \nнаруше-\nнием \nслуха","лица с \nнаруше-\nнием \nОДА",null,"Раздел 4.1"]
[1,2,3,4,5,6,7,8,9,10,11,12,13,14,15,16,17,18,19,20,21,null,4]
["Всего учреждений,\nобъединений,\nорганизаций (сумма\nстрок 02, 13, 21, 25, 26)",1,{"v":132,"d":"132 "},{"v":34,"d":"34 "},{"v":7,"d":"7 "},{"v":13,"d":"13 "},{"v":5,"d":"5 "},{"v":16,"d":"16 "},{"v":10450,"d":"10,450 "},{"v":76,"d":"76 "},{"v":137,"d":"137 "},{"v":4284,"d":"4,284 "},{"v":4484,"d":"4,484 "},{"v":1396,"d":"1,396 "},{"v":73,"d":"73 "},{"v":1783,"d":"1,783 "},{"v":5934,"d":"5,934 "},{"v":3396,"d":"3,396 "},{"v":437,"d":"437 "},{"v":278,"d":"278 "},{"v":405,"d":"405 "},null,{"$f":"Раздел4_1!$D$7","v":{"v":1346,"d":"1,346.00 "}}]
["В сфере физической культуры и спорта (сумма строк 03 - 12) ",2,{"v":26,"d":"26 "},{"v":4,"d":"4 "},{"v":2,"d":"2 "},{"v":2,"d":"2 "},{"v":1,"d":"1 "},{"v":1,"d":"1 "},{"v":1177,"d":"1,177 "},0,{"v":14,"d":"14 "},{"v":166,"d":"166 "},{"v":711,"d":"711 "},{"v":271,"d":"271 "},{"v":15,"d":"15 "},{"v":189,"d":"189 "},{"v":830,"d":"830 "},{"v":115,"d":"115 "},{"v":53,"d":"53 "},{"v":43,"d":"43 "},{"v":132,"d":"132 "}]
["в том числе центры спортивной подготовки по спорту инвалидов ",3,0,0,0,0,0,0,0,0,0,0,0,0,0,0,0,0,0,0,0]
["физкультурно- оздоровительные клубы инвалидов ",4,{"v":9,"d":"9 "},{"v":2,"d":"2 "},0,0,{"v":1,"d":"1 "},{"v":1,"d":"1 "},{"v":663,"d":"663 "},0,{"v":14,"d":"14 "},{"v":100,"d":"100 "},{"v":406,"d":"406 "},{"v":131,"d":"131 "},{"v":12,"d":"12 "},{"v":63,"d":"63 "},{"v":518,"d":"518 "},{"v":23,"d":"23 "},{"v":43,"d":"43 "},{"v":24,"d":"24 "},{"v":51,"d":"51 "}]
["ДЮСАШ",5,0,0,0,0,0,0,0,0,0,0,0,0,0,0,0,0,0,0,0]
["СДЮСАШ",6,0,0,0,0,0,0,0,0,0,0,0,0,0,0,0,0,0,0,0]
["спортивные учреждения по спорту инвалидов ",7,0,0,0,0,0,0,0,0,0,0,0,0,0,0,0,0,0,0,0]
["отделения, группы, смешанные группы по адаптивной физической культуре и спорту ",8,{"v":1,"d":"1 "},0,0,0,0,0,{"v":43,"d":"43 "},0,0,{"v":2,"d":"2 "},{"v":6,"d":"6 "},{"v":35,"d":"35 "},0,0,{"v":27,"d":"27 "},{"v":12,"d":"12 "},0,0,{"v":4,"d":"4 "}]
["училища олимпийского резерва ",9,0,0,0,0,0,0,0,0,0,0,0,0,0,0,0,0,0,0,0]
["центры спортивной подготовки ",10,0,0,0,0,0,0,0,0,0,0,0,0,0,0,0,0,0,0,0]
["СДЮШОР, ДЮСШ, ДООЦ ",11,0,0,0,0,0,0,{"v":1,"d":"1 "},0,0,0,0,{"v":1,"d":"1 "},0,0,0,0,{"v":1,"d":"1 "},0,0]
["другие учреждения и организации ",12,{"v":16,"d":"16 "},{"v":2,"d":"2 "},{"v":2,"d":"2 "},{"v":2,"d":"2 "},0,0,{"v":470,"d":"470 "},0,0,{"v":64,"d":"64 "},{"v":299,"d":"299 "},{"v":104,"d":"104 "},{"v":3,"d":"3 "},{"v":126,"d":"126 "},{"v":285,"d":"285 "},{"v":80,"d":"80 "},{"v":9,"d":"9 "},{"v":19,"d":"19 "},{"v":77,"d":"77 "}]
["В сфере образования (сумма строк 14 - 20) ",13,{"v":64,"d":"64 "},{"v":25,"d":"25 "},{"v":3,"d":"3 "},{"v":11,"d":"11 "},{"v":4,"d":"4 "},{"v":10,"d":"10 "},{"v":3554,"d":"3,554 "},{"v":28,"d":"28 "},{"v":60,"d":"60 "},{"v":3410,"d":"3,410 "},{"v":56,"d":"56 "},0,0,{"v":472,"d":"472 "},{"v":802,"d":"802 "},{"v":2583,"d":"2,583 "},{"v":104,"d":"104 "},{"v":30,"d":"30 "},{"v":36,"d":"36 "}]
["в том числе: дошкольные образовательные организации ",14,{"v":9,"d":"9 "},0,0,0,0,0,{"v":79,"d":"79 "},{"v":23,"d":"23 "},{"v":25,"d":"25 "},{"v":31,"d":"31 "},0,0,0,{"v":6,"d":"6 "},{"v":64,"d":"64 "},{"v":12,"d":"12 "},0,{"v":2,"d":"2 "},{"v":1,"d":"1 "}]
["организации дополнительного образования ",15,0,0,0,0,0,0,{"v":33,"d":"33 "},0,0,{"v":33,"d":"33 "},0,0,0,0,0,{"v":33,"d":"33 "},0,0,0]
["общеобразовательные организации ",16,{"v":41,"d":"41 "},{"v":12,"d":"12 "},{"v":1,"d":"1 "},{"v":5,"d":"5 "},{"v":2,"d":"2 "},{"v":5,"d":"5 "},{"v":1953,"d":"1,953 "},{"v":5,"d":"5 "},{"v":34,"d":"34 "},{"v":1897,"d":"1,897 "},{"v":17,"d":"17 "},0,0,{"v":138,"d":"138 "},{"v":361,"d":"361 "},{"v":1450,"d":"1,450 "},{"v":95,"d":"95 "},{"v":28,"d":"28 "},{"v":20,"d":"20 "}]
["отдельные организации, осуществляющие образовательную деятельность по адаптированным основным образовательным программам ",17,{"v":12,"d":"12 "},{"v":12,"d":"12 "},{"v":2,"d":"2 "},{"v":6,"d":"6 "},{"v":1,"d":"1 "},{"v":5,"d":"5 "},{"v":1301,"d":"1,301 "},0,{"v":1,"d":"1 "},{"v":1295,"d":"1,295 "},{"v":5,"d":"5 "},0,0,{"v":316,"d":"316 "},{"v":349,"d":"349 "},{"v":944,"d":"944 "},{"v":6,"d":"6 "},0,{"v":2,"d":"2 "}]
["образовательные организации высшего образования ",18,0,0,0,0,0,0,0,0,0,0,0,0,0,0,0,0,0,0,0]
["профессиональные образовательные организации ",19,{"v":1,"d":"1 "},{"v":1,"d":"1 "},0,0,{"v":1,"d":"1 "},0,{"v":142,"d":"142 "},0,0,{"v":137,"d":"137 "},{"v":5,"d":"5 "},0,0,0,0,{"v":140,"d":"140 "},{"v":1,"d":"1 "},0,{"v":1,"d":"1 "}]
["другие учреждения и организации ",20,{"v":1,"d":"1 "},0,0,0,0,0,{"v":46,"d":"46 "},0,0,{"v":17,"d":"17 "},{"v":29,"d":"29 "},0,0,{"v":12,"d":"12 "},{"v":28,"d":"28 "},{"v":4,"d":"4 "},{"v":2,"d":"2 "},0,{"v":12,"d":"12 "}]
["В сфере труда и социальной защиты (сумма строк 22 - 24) ",21,{"v":15,"d":"15 "},{"v":4,"d":"4 "},{"v":2,"d":"2 "},0,0,{"v":4,"d":"4 "},{"v":1524,"d":"1,524 "},{"v":44,"d":"44 "},{"v":51,"d":"51 "},{"v":348,"d":"348 "},{"v":862,"d":"862 "},{"v":183,"d":"183 "},{"v":36,"d":"36 "},{"v":320,"d":"320 "},{"v":1005,"d":"1,005 "},{"v":444,"d":"444 "},{"v":19,"d":"19 "},{"v":10,"d":"10 "},{"v":46,"d":"46 "}]
["в том числе: психо- неврологические интернаты ",22,{"v":4,"d":"4 "},{"v":1,"d":"1 "},{"v":1,"d":"1 "},0,0,{"v":1,"d":"1 "},{"v":611,"d":"611 "},0,{"v":3,"d":"3 "},{"v":91,"d":"91 "},{"v":517,"d":"517 "},0,0,{"v":24,"d":"24 "},{"v":264,"d":"264 "},{"v":347,"d":"347 "},0,0,0]
["реабилитационные центры",23,{"v":1,"d":"1 "},0,0,0,0,0,{"v":293,"d":"293 "},{"v":37,"d":"37 "},{"v":46,"d":"46 "},{"v":210,"d":"210 "},0,0,0,0,{"v":210,"d":"210 "},{"v":50,"d":"50 "},{"v":7,"d":"7 "},{"v":6,"d":"6 "},{"v":20,"d":"20 "}]
["другие учреждения  и организации",24,{"v":10,"d":"10 "},{"v":3,"d":"3 "},{"v":1,"d":"1 "},0,0,{"v":3,"d":"3 "},{"v":620,"d":"620 "},{"v":7,"d":"7 "},{"v":2,"d":"2 "},{"v":47,"d":"47 "},{"v":345,"d":"345 "},{"v":183,"d":"183 "},{"v":36,"d":"36 "},{"v":296,"d":"296 "},{"v":531,"d":"531 "},{"v":47,"d":"47 "},{"v":12,"d":"12 "},{"v":4,"d":"4 "},{"v":26,"d":"26 "}]
["В сфере здравоохранения",25,{"v":1,"d":"1 "},0,0,0,0,0,{"v":104,"d":"104 "},0,0,{"v":14,"d":"14 "},{"v":49,"d":"49 "},{"v":41,"d":"41 "},0,0,{"v":101,"d":"101 "},{"v":3,"d":"3 "},0,0,0]
["В сфере Всероссийских общественных организаций",26,{"v":26,"d":"26 "},{"v":1,"d":"1 "},0,0,0,{"v":1,"d":"1 "},{"v":4091,"d":"4,091 "},{"v":4,"d":"4 "},{"v":12,"d":"12 "},{"v":346,"d":"346 "},{"v":2806,"d":"2,806 "},{"v":901,"d":"901 "},{"v":22,"d":"22 "},{"v":802,"d":"802 "},{"v":3196,"d":"3,196 "},{"v":251,"d":"251 "},{"v":261,"d":"261 "},{"v":195,"d":"195 "},{"v":191,"d":"191 "}]
["Из общего числа (строка 1) -  в сельской местности",27,{"v":48,"d":"48 "},{"v":7,"d":"7 "},{"v":7,"d":"7 "},{"v":4,"d":"4 "},0,{"v":3,"d":"3 "},{"v":1783,"d":"1,783 "},0,{"v":5,"d":"5 "},{"v":603,"d":"603 "},{"v":900,"d":"900 "},{"v":266,"d":"266 "},{"v":9,"d":"9 "},{"v":1783,"d":"1,783 "},{"v":1068,"d":"1,068 "},{"v":493,"d":"493 "},{"v":72,"d":"72 "},{"v":73,"d":"73 "},{"v":77,"d":"77 "}]

{"sheet":"Раздел2","index":2,"n_rows":23,"n_cols":18,"rows_kept":23,"merged":[[0,0,0,17],[1,0,1,17],[2,0,4,0],[2,1,4,1],[2,2,2,13],[2,14,2,16],[2,17,4,17],[3,2,4,2],[3,3,4,3],[3,4,3,7],[3,8,4,8],[3,9,4,9],[3,10,4,10],[3,11,4,11],[3,12,4,12],[3,13,4,13],[3,14,4,14],[3,15,4,15],[3,16,4,16]]}
["Раздел II. Спортивные сооружения, приспособленные к занятиям инвалидов"]
["Код по ОКЕИ: единица — 642;человек - 792"]
["Наименование спортивного\nсооружения","№\nСтро-ки","Количество спортсооружений (ед.)",{"$nulls":11},"Численность сотрудников (чел)",null,null,"Из общего числа спортивных сооружений (гр. 3)\nв сельской местности"]
[null,null,"всего","из гр. 3 оснащенных","в том числе по формам собственности (из гр. 3):",{"$nulls":3},"Существующие спортивные сооружения, которые в результате проведения капитального ремонта, реконструкции, модернизации полностью соответствуют требованиям доступности объектов и услуг для инвалидов","Вновь введенные в эксплуатацию спортивные сооружения, полностью соответствующие требованиям доступности объектов и услуг для инвалидов, в которых предоставляются услуги населению","Имеющие утвержденные паспорта доступности объектов и предоставляемых на них услуг","На которых обеспечиваются условия индивидуальной мобильности инвалидов и возможность для самостоятельного их передвижения по зданию и (при необходимости) по территории объекта","На которых обеспечено сопровождение инвалидов, имеющих стойкие расстройства функции зрения, слуха и самостоятельного передвижения, и оказание им помощи","На которых предоставляются услуги с использованием русского жестового языка, с допуском сурдопереводчика и тифлосурдопереводчика","Предоставляющих услуги инвалидам","Прошедших инструктирование или обучение для работы с инвалидами","Предоставляющих услуги, на которых возложено оказание инвалидам помощи при предоставлении им услуг"]
[{"$nulls":4},"федеральная","субъектов Российской Федерации","муници-пальная","другая"]
[1,2,3,4,5,6,7,8,9,10,11,12,13,14,15,16,17,18]
["Всего спортивных сооружений\n(сумма строк 29 - 32, 34, 35, 38 - 44)",28,{"v":296,"d":"296 "},{"v":46,"d":"46 "},{"v":4,"d":"4 "},{"v":67,"d":"67 "},{"v":220,"d":"220 "},{"v":5,"d":"5 "},{"v":24,"d":"24 "},{"v":3,"d":"3 "},{"v":177,"d":"177 "},{"v":95,"d":"95 "},{"v":18,"d":"18 "},{"v":1,"d":"1 "},{"v":22,"d":"22 "},{"v":18,"d":"18 "},{"v":15,"d":"15 "},{"v":59,"d":"59 "}]
["в том числе\n    Стадионы с трибунами на 1500 мести более",29,{"v":8,"d":"8 "},{"v":2,"d":"2 "},0,0,{"v":8,"d":"8 "},0,0,0,{"v":5,"d":"5 "},{"v":4,"d":"4 "},0,0,0,0,0,0]
["    Плоскостные спортивные сооружения ",30,{"v":147,"d":"147 "},{"v":14,"d":"14 "},{"v":1,"d":"1 "},{"v":23,"d":"23 "},{"v":120,"d":"120 "},{"v":3,"d":"3 "},{"v":12,"d":"12 "},{"v":1,"d":"1 "},{"v":64,"d":"64 "},{"v":60,"d":"60 "},0,0,{"v":3,"d":"3 "},{"v":2,"d":"2 "},0,{"v":37,"d":"37 "}]
["    Спортивные залы ",31,{"v":100,"d":"100 "},{"v":20,"d":"20 "},{"v":2,"d":"2 "},{"v":30,"d":"30 "},{"v":68,"d":"68 "},0,{"v":9,"d":"9 "},{"v":1,"d":"1 "},{"v":82,"d":"82 "},{"v":21,"d":"21 "},{"v":17,"d":"17 "},{"v":1,"d":"1 "},{"v":13,"d":"13 "},{"v":13,"d":"13 "},{"v":11,"d":"11 "},{"v":18,"d":"18 "}]
["    Дворцы спорта - всего  ",32,0,0,0,0,0,0,0,0,0,0,0,0,0,0,0,0]
["        - из них с искусственным льдом  ",33,0,0,0,0,0,0,0,0,0,0,0,0,0,0,0,0]
["    Крытые спортивные объекты с искусственным льдом ",34,{"v":1,"d":"1 "},0,0,{"v":1,"d":"1 "},0,0,0,0,{"v":1,"d":"1 "},{"v":1,"d":"1 "},{"v":1,"d":"1 "},0,0,0,0,0]
["    Манежи - всего ",35,{"v":3,"d":"3 "},0,0,0,{"v":3,"d":"3 "},0,0,0,{"v":2,"d":"2 "},{"v":1,"d":"1 "},0,0,0,0,0,0]
["    из них: \n        - легкоатлетические ",36,{"v":1,"d":"1 "},0,0,0,{"v":1,"d":"1 "},0,0,0,{"v":1,"d":"1 "},0,0,0,0,0,0,0]
["        - футбольные",37,0,0,0,0,0,0,0,0,0,0,0,0,0,0,0,0]
["    Велотреки, велодромы",38,0,0,0,0,0,0,0,0,0,0,0,0,0,0,0,0]
["    Плавательные бассейны",39,{"v":5,"d":"5 "},{"v":3,"d":"3 "},{"v":1,"d":"1 "},{"v":2,"d":"2 "},{"v":2,"d":"2 "},0,0,0,{"v":3,"d":"3 "},0,0,0,{"v":2,"d":"2 "},{"v":2,"d":"2 "},{"v":2,"d":"2 "},{"v":1,"d":"1 "}]
["    Лыжные базы",40,{"v":4,"d":"4 "},{"v":1,"d":"1 "},0,{"v":2,"d":"2 "},{"v":2,"d":"2 "},0,{"v":1,"d":"1 "},0,{"v":1,"d":"1 "},{"v":2,"d":"2 "},0,0,0,0,0,{"v":1,"d":"1 "}]
["    Биатлонные комплексы",41,{"v":1,"d":"1 "},{"v":1,"d":"1 "},0,{"v":1,"d":"1 "},0,0,0,0,{"v":1,"d":"1 "},0,0,0,0,0,0,{"v":1,"d":"1 "}]
["    Сооружения для стрелковых видов спорта",42,{"v":1,"d":"1 "},0,0,0,{"v":1,"d":"1 "},0,0,0,0,{"v":1,"d":"1 "},0,0,0,0,0,0]
["    Гребные базы и каналы",43,0,0,0,0,0,0,0,0,0,0,0,0,0,0,0,0]
["    Другие спортивные сооружения",44,{"v":26,"d":"26 "},{"v":5,"d":"5 "},0,{"v":8,"d":"8 "},{"v":16,"d":"16 "},{"v":2,"d":"2 "},{"v":2,"d":"2 "},{"v":1,"d":"1 "},{"v":18,"d":"18 "},{"v":5,"d":"5 "},0,0,{"v":4,"d":"4 "},{"v":1,"d":"1 "},{"v":2,"d":"2 "},{"v":1,"d":"1 "}]

{"sheet":"Раздел3","index":3,"n_rows":14,"n_cols":8,"rows_kept":14,"merged":[[0,0,0,7],[1,0,1,7],[2,0,4,0],[2,1,4,1],[2,2,2,5],[2,6,4,6],[2,7,4,7],[3,2,4,2],[3,3,4,3],[3,4,3,5]]}
["Раздел III. Финансирование адаптивной физической культуры и спорта"]
["Код по ОКЕИ: тысяча рублей - 384 (с одним десятичным знаком)"]
["Статьи расходов","№ строки","Фактически выделено бюджетных средств",{"$nulls":3},"Получено из внебюджетных источников","Израсходовано на развитие адаптивной физической культуры и спорта, всего"]
[null,null,"всего","из федерального бюджета","из консолидированного бюджета субъекта Российской Федерации"]
[{"$nulls":4},"бюджет субъекта Российской Федерации ","бюджет муниципального образования"]
[1,2,3,4,5,6,7,8]
["Расходы - всего \n(сумма строк 46-52) ",45,{"v":12631.43,"d":"12,631.4 "},{"v":1228,"d":"1,228.00 "},{"v":10726.5,"d":"10,726.50 "},{"v":676.93,"d":"676.93 "},{"v":1284.6999999999998,"d":"1,284.70 "},{"v":13916.13,"d":"13,916.1 "}]
["из них: \n    Проведение спортивных\n    мероприятий среди \n    инвалидов",46,{"v":207.13,"d":"207.1 "},0,{"v":9,"d":"9.0 "},{"v":198.13,"d":"198.1 "},{"v":672.7,"d":"672.7 "},{"v":879.83,"d":"879.8 "}]
["    Приобретение \n    спортивного \n    оборудования и \n    инвентаря",47,{"v":2324.3,"d":"2,324.3 "},{"v":1228,"d":"1,228.0 "},{"v":1083.3,"d":"1,083.3 "},{"v":13,"d":"13.0 "},{"v":158.79999999999998,"d":"158.8 "},{"v":2483.1000000000004,"d":"2,483.1 "}]
["    Капитальный ремонт \n    спортсооружений",48,0,0,0,0,0,0]
["    Инвестиции на \n    реконструкцию\n    и строительство \n    спортивных \n    сооружений",49,0,0,0,0,0,0]
["    Заработная плата \n    работников адаптивной \n    физической культуры \n    и спорта",50,{"v":8980.4,"d":"8,980.4 "},0,{"v":8531.800000000001,"d":"8,531.8 "},{"v":448.6,"d":"448.6 "},0,{"v":8980.4,"d":"8,980.4 "}]
["    На содержание \n    спортивных сооружений, \n    приспособленных к \n    занятиям инвалидов",51,{"v":1011,"d":"1,011.0 "},0,{"v":1011,"d":"1,011.0 "},0,{"v":427.7,"d":"427.7 "},{"v":1438.7,"d":"1,438.7 "}]
["    Другие",52,{"v":108.6,"d":"108.6 "},0,{"v":91.4,"d":"91.4 "},{"v":17.2,"d":"17.2 "},{"v":25.5,"d":"25.5 "},{"v":134.10000000000002,"d":"134.1 "}]

{"sheet":"Раздел4_1","index":4,"n_rows":80,"n_cols":22,"rows_kept":80,"merged":[[0,0,0,17],[1,0,1,17],[2,0,4,0],[2,1,4,1],[2,2,4,2],[2,3,2,17],[3,3,4,3],[3,4,4,4],[3,5,4,5],[3,6,3,9],[3,10,3,13],[3,14,3,17]]}
["Раздел IV. Развитие видов спорта"]
["Коды по ОКЕИ: единица - 642; человек — 792"]
["Спортивные дисциплины  (в соответствии с ВРВС по видам спорта инвалидов)","№ стро-ки","Число отделений (ед)","Численность занимающихся на этапах подготовки (чел.)"]
[{"$nulls":3},"Всего","из них в воз-расте от 6 до 18 лет","из гр. 4 в сельской мест-ности","спортивно-оздоровительной",{"$nulls":3},"начальной подготовки",{"$nulls":3},"учебно-тренировочной"]
[{"$nulls":6},"Спорт лиц с интел-лекту-альны-ми наруше-ниями","Спорт слепых","Спорт глухих","Спорт ОДА","Спорт лиц с интел-лекту-альными наруше-ниями","Спорт слепых","Спорт глухих","Спорт ОДА","Спорт лиц с интел-лекту-альными наруше-ниями","Спорт слепых","Спорт глухих","Спорт ОДА",null,"Раздел4_2","Раздел1","Раздел4_2"]
[1,2,3,4,5,6,7,8,9,10,11,12,13,14,15,16,17,18,null,27,9,"сумма(19-26)"]
["Итого\n(сумма строк 63 - 125)",53,{"v":33,"d":"33 "},{"v":1346,"d":"1,346 "},{"v":645,"d":"645 "},{"v":170,"d":"170 "},{"v":875,"d":"875 "},{"v":19,"d":"19 "},{"v":119,"d":"119 "},{"v":213,"d":"213 "},{"v":17,"d":"17 "},0,{"v":8,"d":"8 "},0,{"v":18,"d":"18 "},{"v":4,"d":"4 "},{"v":10,"d":"10 "},0,null,{"$f":"Раздел4_2!K7","v":{"v":106,"d":"106.00 "}},{"$f":"Раздел1!$I$7","v":{"v":10450,"d":"10,450.00 "}},{"$f":"SUM(Раздел4_2!$C7:$J7)","v":{"v":63,"d":"63.00 "}}]
["    в том числе из строки 53:\n    центры спортивной \n    подготовки по\n    спорту инвалидов",54,0,0,0,0,0,0,0,0,0,0,0,0,0,0,0,0,null,{"$f":"Раздел4_2!K8","v":0},null,{"$f":"SUM(Раздел4_2!$C8:$J8)","v":0}]
["    физкультурно-спортивные\n    клубы инвалидов",55,{"v":12,"d":"12 "},{"v":42,"d":"42 "},{"v":5,"d":"5 "},0,{"v":29,"d":"29 "},{"v":3,"d":"3 "},{"v":1,"d":"1 "},{"v":9,"d":"9 "},0,0,0,0,0,0,0,0,null,{"$f":"Раздел4_2!K9","v":0},null,{"$f":"SUM(Раздел4_2!$C9:$J9)","v":0}]
["    ДЮСАШ",56,0,0,0,0,0,0,0,0,0,0,0,0,0,0,0,0,null,{"$f":"Раздел4_2!K10","v":0},null,{"$f":"SUM(Раздел4_2!$C10:$J10)","v":0}]
["    СДЮСАШ",57,0,0,0,0,0,0,0,0,0,0,0,0,0,0,0,0,null,{"$f":"Раздел4_2!K11","v":0},null,{"$f":"SUM(Раздел4_2!$C11:$J11)","v":0}]
["    спортивные учреждения \n    по спорту инвалидов",58,0,0,0,0,0,0,0,0,0,0,0,0,0,0,0,0,null,{"$f":"Раздел4_2!K12","v":0},null,{"$f":"SUM(Раздел4_2!$C12:$J12)","v":0}]
["    училища олимпийского резерва",59,0,0,0,0,0,0,0,0,0,0,0,0,0,0,0,0,null,{"$f":"Раздел4_2!K13","v":0},null,{"$f":"SUM(Раздел4_2!$C13:$J13)","v":0}]
["    центры спортивной подготовки",60,0,0,0,0,0,0,0,0,0,0,0,0,0,0,0,0,null,{"$f":"Раздел4_2!K14","v":0},null,{"$f":"SUM(Раздел4_2!$C14:$J14)","v":0}]
["    ШВСМ, СДЮШОР, \n    ДЮСШ, ДООЦ",61,0,{"v":1,"d":"1 "},0,0,{"v":1,"d":"1 "},0,0,0,0,0,0,0,0,0,0,0,null,{"$f":"Раздел4_2!K15","v":0},null,{"$f":"SUM(Раздел4_2!$C15:$J15)","v":0}]
["    другие учреждения \n    и организации",62,{"v":23,"d":"23 "},{"v":860,"d":"860 "},{"v":555,"d":"555 "},{"v":74,"d":"74 "},{"v":589,"d":"589 "},{"v":15,"d":"15 "},{"v":100,"d":"100 "},{"v":117,"d":"117 "},0,0,{"v":8,"d":"8 "},0,{"v":8,"d":"8 "},{"v":4,"d":"4 "},{"v":10,"d":"10 "},0,null,{"$f":"Раздел4_2!K16","v":{"v":30,"d":"30.00 "}},null,{"$f":"SUM(Раздел4_2!$C16:$J16)","v":{"v":9,"d":"9.00 "}}]
["Академическая гребля",63,0,0,0,0,0,"X","X",0,0,"X","X",0,0,"X","X",0,null,{"$f":"Раздел4_2!K17","v":0},null,{"$f":"SUM(Раздел4_2!$C17:$J17)","v":0}]
["Армрестлинг",64,0,0,0,0,"X","X",0,0,"X","X",0,0,"X","X",0,0]
["Армспорт",65,0,0,0,0,"X",0,"X","X","X",0,"X","X","X",0,"X","X",null,{"$f":"Раздел4_2!K19","v":0},null,{"$f":"SUM(Раздел4_2!$C19:$J19)","v":0}]
["Бадминтон",66,0,0,0,0,0,"X",0,0,0,"X",0,0,0,"X",0,0,null,{"$f":"Раздел4_2!K20","v":0},null,{"$f":"SUM(Раздел4_2!$C20:$J20)","v":0}]
["Баскетбол",67,{"v":3,"d":"3 "},{"v":80,"d":"80 "},{"v":72,"d":"72 "},{"v":32,"d":"32 "},{"v":77,"d":"77 "},"X",{"v":3,"d":"3 "},"X",0,"X",0,"X",0,"X",0,"X",null,{"$f":"Раздел4_2!K21","v":0},null,{"$f":"SUM(Раздел4_2!$C21:$J21)","v":0}]
["Баскетбол 3 х 3",68,0,0,0,0,0,"X","X","X",0,"X","X","X",0,"X","X","X"]
["Баскетбол на колясках",69,0,0,0,0,"X","X","X",0,"X","X","X",0,"X","X","X",0,null,{"$f":"Раздел4_2!K23","v":0},null,{"$f":"SUM(Раздел4_2!$C23:$J23)","v":0}]
["Биатлон",70,0,{"v":6,"d":"6 "},0,0,"X",0,"X",0,"X",0,"X",0,"X",{"v":4,"d":"4 "},"X",0,null,{"$f":"Раздел4_2!K24","v":{"v":6,"d":"6.00 "}},null,{"$f":"SUM(Раздел4_2!$C24:$J24)","v":{"v":2,"d":"2.00 "}}]
["Борьба",71,0,0,0,0,"X",0,"X","X","X",0,"X","X","X",0,"X","X",null,{"$f":"Раздел4_2!K25","v":0},null,{"$f":"SUM(Раздел4_2!$C25:$J25)","v":0}]
["Боулинг",72,0,0,0,0,"X","X",0,"X","X","X",0,"X","X","X",0,"X",null,{"$f":"Раздел4_2!K26","v":0},null,{"$f":"SUM(Раздел4_2!$C26:$J26)","v":0}]
["Боулинг 10",73,0,0,0,0,"X",0,"X","X","X",0,"X","X","X",0,"X","X",null,{"$f":"Раздел4_2!K27","v":0},null,{"$f":"SUM(Раздел4_2!$C27:$J27)","v":0}]
["Бочча",74,{"v":1,"d":"1 "},{"v":53,"d":"53 "},{"v":18,"d":"18 "},{"v":2,"d":"2 "},"X","X","X",{"v":53,"d":"53 "},"X","X","X",0,"X","X","X",0,null,{"$f":"Раздел4_2!K28","v":0},null,{"$f":"SUM(Раздел4_2!$C28:$J28)","v":0}]
["Велоспорт - маунтинбайк",75,0,0,0,0,"X","X",0,"X","X","X",0,"X","X","X",0,"X",null,{"$f":"Раздел4_2!K29","v":0},null,{"$f":"SUM(Раздел4_2!$C29:$J29)","v":0}]
["Велоспорт - тандем",76,0,{"v":1,"d":"1 "},0,0,"X",{"v":1,"d":"1 "},"X","X","X",0,"X","X","X",0,"X","X",null,{"$f":"Раздел4_2!K30","v":0},null,{"$f":"SUM(Раздел4_2!$C30:$J30)","v":0}]
["Велоспорт - шоссе, трек",77,0,0,0,0,0,"X",0,0,0,"X",0,0,0,"X",0,0,null,{"$f":"Раздел4_2!K31","v":0},null,{"$f":"SUM(Раздел4_2!$C31:$J31)","v":0}]
["Волейбол 6 x 6",78,{"v":1,"d":"1 "},{"v":3,"d":"3 "},{"v":3,"d":"3 "},0,"X","X",{"v":3,"d":"3 "},"X","X","X",0,"X","X","X",0,"X",null,{"$f":"Раздел4_2!K32","v":0},null,{"$f":"SUM(Раздел4_2!$C32:$J32)","v":0}]
["Волейбол пляжный",79,0,0,0,0,"X","X",0,"X","X","X",0,"X","X","X",0,"X",null,{"$f":"Раздел4_2!K33","v":0},null,{"$f":"SUM(Раздел4_2!$C33:$J33)","v":0}]
["Волейбол сидя",80,0,0,0,0,"X","X","X",0,"X","X","X",0,"X","X","X",0,null,{"$f":"Раздел4_2!K34","v":0},null,{"$f":"SUM(Раздел4_2!$C34:$J34)","v":0}]
["Вольная борьба",81,0,0,0,0,"X","X",0,"X","X","X",0,"X","X","X",0,"X",null,{"$f":"Раздел4_2!K35","v":0},null,{"$f":"SUM(Раздел4_2!$C35:$J35)","v":0}]
["Гандбол",82,0,0,0,0,0,"X",0,"X",0,"X",0,"X",0,"X",0,"X",null,{"$f":"Раздел4_2!K36","v":0},null,{"$f":"SUM(Раздел4_2!$C36:$J36)","v":0}]
["Голбол (B1, B2, B3)",83,0,0,0,0,"X",0,"X","X","X",0,"X","X","X",0,"X","X",null,{"$f":"Раздел4_2!K37","v":0},null,{"$f":"SUM(Раздел4_2!$C37:$J37)","v":0}]
["Гольф",84,0,0,0,0,"X","X",0,"X","X","X",0,"X","X","X",0,"X",null,{"$f":"Раздел4_2!K38","v":0},null,{"$f":"SUM(Раздел4_2!$C38:$J38)","v":0}]
["Горнолыжный спорт",85,0,0,0,0,0,0,0,0,0,0,0,0,0,0,0,0,null,{"$f":"Раздел4_2!K39","v":0},null,{"$f":"SUM(Раздел4_2!$C39:$J39)","v":0}]
["Гребля на байдарках и каноэ",86,0,0,0,0,"X","X","X",0,"X","X","X",0,"X","X","X",0,null,{"$f":"Раздел4_2!K40","v":0},null,{"$f":"SUM(Раздел4_2!$C40:$J40)","v":0}]
["Греко-римская борьба",87,0,0,0,0,"X","X",0,"X","X","X",0,"X","X","X",0,"X",null,{"$f":"Раздел4_2!K41","v":0},null,{"$f":"SUM(Раздел4_2!$C41:$J41)","v":0}]
["Дартс",88,{"v":1,"d":"1 "},{"v":74,"d":"74 "},{"v":17,"d":"17 "},{"v":2,"d":"2 "},"X","X","X",{"v":74,"d":"74 "},"X","X","X",0,"X","X","X",0,null,{"$f":"Раздел4_2!K42","v":0},null,{"$f":"SUM(Раздел4_2!$C42:$J42)","v":0}]
["Дзюдо",89,0,{"v":1,"d":"1 "},0,0,0,0,0,"X",0,0,0,"X",0,0,0,"X",null,{"$f":"Раздел4_2!K43","v":{"v":1,"d":"1.00 "}},null,{"$f":"SUM(Раздел4_2!$C43:$J43)","v":{"v":1,"d":"1.00 "}}]
["Каратэ",90,0,0,0,0,"X","X",0,"X","X","X",0,"X","X","X",0,"X",null,{"$f":"Раздел4_2!K44","v":0},null,{"$f":"SUM(Раздел4_2!$C44:$J44)","v":0}]
["Керлинг 4 x 4",91,0,0,0,0,"X","X",0,"X","X","X",0,"X","X","X",0,"X",null,{"$f":"Раздел4_2!K45","v":0},null,{"$f":"SUM(Раздел4_2!$C45:$J45)","v":0}]
["Керлинг на колясках",92,0,0,0,0,"X","X","X",0,"X","X","X",0,"X","X","X",0,null,{"$f":"Раздел4_2!K46","v":0},null,{"$f":"SUM(Раздел4_2!$C46:$J46)","v":0}]
["Конный спорт",93,0,0,0,0,0,"X","X",0,0,"X","X",0,0,"X","X",0,null,{"$f":"Раздел4_2!K47","v":0},null,{"$f":"SUM(Раздел4_2!$C47:$J47)","v":0}]
["Легкая атлетика",94,{"v":4,"d":"4 "},{"v":409,"d":"409 "},{"v":89,"d":"89 "},{"v":23,"d":"23 "},{"v":363,"d":"363 "},{"v":6,"d":"6 "},{"v":32,"d":"32 "},{"v":8,"d":"8 "},0,0,0,0,0,0,0,0,null,{"$f":"Раздел4_2!K48","v":0},null,{"$f":"SUM(Раздел4_2!$C48:$J48)","v":0}]
["Лыжные гонки",95,{"v":7,"d":"7 "},{"v":277,"d":"277 "},{"v":157,"d":"157 "},{"v":39,"d":"39 "},{"v":182,"d":"182 "},{"v":8,"d":"8 "},{"v":45,"d":"45 "},{"v":9,"d":"9 "},0,0,{"v":8,"d":"8 "},0,{"v":8,"d":"8 "},0,{"v":10,"d":"10 "},0,null,{"$f":"Раздел4_2!K49","v":{"v":24,"d":"24.00 "}},null,{"$f":"SUM(Раздел4_2!$C49:$J49)","v":{"v":7,"d":"7.00 "}}]
["Мини-футбол (футзал)",96,{"v":1,"d":"1 "},{"v":40,"d":"40 "},{"v":28,"d":"28 "},0,{"v":28,"d":"28 "},"X",0,"X",0,"X",0,"X",0,"X",0,"X"]
["Мини-футбол (футзал) 5 x 5 (B1, B2, B3)",97,0,0,0,0,"X",0,"X","X","X",0,"X","X","X",0,"X","X",null,{"$f":"Раздел4_2!K51","v":0},null,{"$f":"SUM(Раздел4_2!$C51:$J51)","v":0}]
["Настольный теннис",98,{"v":2,"d":"2 "},{"v":64,"d":"64 "},{"v":55,"d":"55 "},{"v":23,"d":"23 "},{"v":58,"d":"58 "},0,0,{"v":6,"d":"6 "},0,0,0,0,0,0,0,0,null,{"$f":"Раздел4_2!K52","v":0},null,{"$f":"SUM(Раздел4_2!$C52:$J52)","v":0}]
["Парусный спорт",99,0,0,0,0,"X","X","X",0,"X","X","X",0,"X","X","X",0,null,{"$f":"Раздел4_2!K53","v":0},null,{"$f":"SUM(Раздел4_2!$C53:$J53)","v":0}]
["Пауэрлифтинг",100,{"v":1,"d":"1 "},{"v":34,"d":"34 "},{"v":1,"d":"1 "},0,{"v":33,"d":"33 "},0,"X",{"v":1,"d":"1 "},0,0,"X",0,0,0,"X",0,null,{"$f":"Раздел4_2!K54","v":0},null,{"$f":"SUM(Раздел4_2!$C54:$J54)","v":0}]
["Плавание",101,0,{"v":77,"d":"77 "},{"v":39,"d":"39 "},{"v":9,"d":"9 "},0,0,0,{"v":9,"d":"9 "},{"v":17,"d":"17 "},0,0,0,{"v":10,"d":"10 "},0,0,0,null,{"$f":"Раздел4_2!K55","v":{"v":63,"d":"63.00 "}},null,{"$f":"SUM(Раздел4_2!$C55:$J55)","v":{"v":41,"d":"41.00 "}}]
["Пулевая стрельба",102,{"v":1,"d":"1 "},{"v":6,"d":"6 "},{"v":1,"d":"1 "},{"v":2,"d":"2 "},"X",0,{"v":1,"d":"1 "},{"v":5,"d":"5 "},"X",0,0,0,"X",0,0,0,null,{"$f":"Раздел4_2!K56","v":0},null,{"$f":"SUM(Раздел4_2!$C56:$J56)","v":0}]
["Самбо",103,{"v":1,"d":"1 "},{"v":1,"d":"1 "},{"v":14,"d":"14 "},0,"X",{"v":1,"d":"1 "},0,"X","X",0,0,"X","X",0,0,"X"]
["Сноуборд",104,0,0,0,0,"X","X",0,0,"X","X",0,0,"X","X",0,0,null,{"$f":"Раздел4_2!K58","v":0},null,{"$f":"SUM(Раздел4_2!$C58:$J58)","v":0}]
["Спортивная гимнастика",105,0,0,0,0,0,"X","X","X",0,"X","X","X",0,"X","X","X",null,{"$f":"Раздел4_2!K59","v":0},null,{"$f":"SUM(Раздел4_2!$C59:$J59)","v":0}]
["Регби на колясках",106,0,0,0,0,"X","X","X",0,"X","X","X",0,"X","X","X",0,null,{"$f":"Раздел4_2!K60","v":0},null,{"$f":"SUM(Раздел4_2!$C60:$J60)","v":0}]
["Спортивное ориентирование",107,0,0,0,0,"X","X",0,0,"X","X",0,0,"X","X",0,0,null,{"$f":"Раздел4_2!K61","v":0},null,{"$f":"SUM(Раздел4_2!$C61:$J61)","v":0}]
["Спортивный туризм",108,0,0,0,0,"X",0,"X","X","X",0,"X","X","X",0,"X","X",null,{"$f":"Раздел4_2!K62","v":0},null,{"$f":"SUM(Раздел4_2!$C62:$J62)","v":0}]
["Стрельба из лука",109,0,0,0,0,"X","X","X",0,"X","X","X",0,"X","X","X",0,null,{"$f":"Раздел4_2!K63","v":0},null,{"$f":"SUM(Раздел4_2!$C63:$J63)","v":0}]
["Танцы на колясках",110,0,0,0,0,"X","X","X",0,"X","X","X",0,"X","X","X",0,null,{"$f":"Раздел4_2!K64","v":0},null,{"$f":"SUM(Раздел4_2!$C64:$J64)","v":0}]
["Теннис",111,{"v":1,"d":"1 "},{"v":3,"d":"3 "},{"v":3,"d":"3 "},0,0,"X",{"v":3,"d":"3 "},"X",0,"X",0,"X",0,"X",0,"X",null,{"$f":"Раздел4_2!K65","v":0},null,{"$f":"SUM(Раздел4_2!$C65:$J65)","v":0}]
["Теннис на колясках",112,0,0,0,0,"X","X","X",0,"X","X","X",0,"X","X","X",0,null,{"$f":"Раздел4_2!K66","v":0},null,{"$f":"SUM(Раздел4_2!$C66:$J66)","v":0}]
["Триатлон",113,0,0,0,0,"X","X","X",0,"X","X","X",0,"X","X","X",0,null,{"$f":"Раздел4_2!K67","v":0},null,{"$f":"SUM(Раздел4_2!$C67:$J67)","v":0}]
["Торбол (B1, B2, B3)",114,0,0,0,0,"X",0,"X","X","X",0,"X","X","X",0,"X","X",null,{"$f":"Раздел4_2!K68","v":0},null,{"$f":"SUM(Раздел4_2!$C68:$J68)","v":0}]
["Тхэквондо",115,0,0,0,0,0,"X",0,0,0,"X",0,0,0,"X",0,0,null,{"$f":"Раздел4_2!K69","v":0},null,{"$f":"SUM(Раздел4_2!$C69:$J69)","v":0}]
["Фехтование",116,0,0,0,0,"X","X","X",0,"X","X","X",0,"X","X","X",0,null,{"$f":"Раздел4_2!K70","v":0},null,{"$f":"SUM(Раздел4_2!$C70:$J70)","v":0}]
["Футбол",117,{"v":1,"d":"1 "},{"v":38,"d":"38 "},{"v":38,"d":"38 "},{"v":35,"d":"35 "},{"v":38,"d":"38 "},"X","X","X",0,"X","X","X",0,"X","X","X",null,{"$f":"Раздел4_2!K71","v":0},null,{"$f":"SUM(Раздел4_2!$C71:$J71)","v":0}]
["Футбол 11 x 11",118,0,0,0,0,"X","X",0,"X","X","X",0,"X","X","X",0,"X",null,{"$f":"Раздел4_2!K72","v":0},null,{"$f":"SUM(Раздел4_2!$C72:$J72)","v":0}]
["Футбол ампутантов",119,0,0,0,0,"X","X","X",0,"X","X","X",0,"X","X","X",0,null,{"$f":"Раздел4_2!K73","v":0},null,{"$f":"SUM(Раздел4_2!$C73:$J73)","v":0}]
["Футбол лиц с заболеванием ЦП",120,0,0,0,0,"X","X","X",0,"X","X","X",0,"X","X","X",0,null,{"$f":"Раздел4_2!K74","v":0},null,{"$f":"SUM(Раздел4_2!$C74:$J74)","v":0}]
["Хоккей (6 x 6)",121,0,0,0,0,"X","X",0,"X","X","X",0,"X","X","X",0,"X",null,{"$f":"Раздел4_2!K75","v":0},null,{"$f":"SUM(Раздел4_2!$C75:$J75)","v":0}]
["Хоккей-следж",122,0,0,0,0,"X","X","X",0,"X","X","X",0,"X","X","X",0,null,{"$f":"Раздел4_2!K76","v":0},null,{"$f":"SUM(Раздел4_2!$C76:$J76)","v":0}]
["Шахматы",123,{"v":2,"d":"2 "},{"v":26,"d":"26 "},{"v":5,"d":"5 "},0,"X",0,{"v":9,"d":"9 "},{"v":17,"d":"17 "},"X",0,0,0,"X",0,0,0,null,{"$f":"Раздел4_2!K77","v":0},null,{"$f":"SUM(Раздел4_2!$C77:$J77)","v":0}]
["Шашки",124,{"v":2,"d":"2 "},{"v":30,"d":"30 "},{"v":23,"d":"23 "},{"v":3,"d":"3 "},"X",0,{"v":13,"d":"13 "},{"v":17,"d":"17 "},"X",0,0,0,"X",0,0,0,null,{"$f":"Раздел4_2!K78","v":0},null,{"$f":"SUM(Раздел4_2!$C78:$J78)","v":0}]
["Другие виды спорта (спортивные дисциплины), не входящие в виды спорта инвалидов",125,{"v":4,"d":"4 "},{"v":123,"d":"123 "},{"v":82,"d":"82 "},0,{"v":96,"d":"96 "},{"v":3,"d":"3 "},{"v":10,"d":"10 "},{"v":14,"d":"14 "},0,0,0,0,0,0,0,0,null,{"$f":"Раздел4_2!K79","v":0},null,{"$f":"SUM(Раздел4_2!$C79:$J79)","v":0}]
["Из строки 53 - в сельской местности",126,{"v":4,"d":"4 "},{"v":170,"d":"170 "},{"v":153,"d":"153 "},{"v":170,"d":"170 "},{"v":146,"d":"146 "},{"v":1,"d":"1 "},{"v":4,"d":"4 "},{"v":19,"d":"19 "},0,0,0,0,0,0,0,0,null,{"$f":"Раздел4_2!K80","v":0},null,{"$f":"SUM(Раздел4_2!$C80:$J80)","v":0}]

{"sheet":"Раздел4_2","index":5,"n_rows":80,"n_cols":20,"rows_kept":80,"merged":[[0,0,0,13],[1,0,1,13],[2,0,4,0],[2,1,4,1],[2,2,2,9],[2,10,2,16],[2,17,4,17],[3,2,3,5],[3,6,3,9],[3,10,4,10],[3,11,3,13],[3,14,4,14],[3,15,4,15],[3,16,4,16]]}
["Раздел IV. Развитие видов спорта"]
["Коды по ОКЕИ: единица - 642; человек — 792"]
["Спортивные дисциплины  (в соответствии с ВРВС по видам спорта инвалидов)","№ стро-ки","численность занимающихся на этапах подготовки (чел.)",{"$nulls":7},"из числа занимающихся (гр. 4) спортсменов-разрядников:",{"$nulls":6},"Число штатных тренеров-преподавателей (чел)"]
[null,null,"спортивного совершенствования",{"$nulls":3},"высшего спортивного мастерства",{"$nulls":3},"Всего (сумма граф 28, 31 - 33)","массовые разряды (юношеский, III, II, I разряды, КМС)",null,null,"МС","МСМК и гроссмейстер России","ЗМС"]
[null,null,"Спорт лиц с интел-лекту-альными наруше-ниями","Спорт слепых","Спорт глухих","Спорт ОДА","Спорт лиц с интел-лекту-альными наруше-ниями","Спорт слепых","Спорт глухих","Спорт ОДА",null,"всего","из графы 28 I разряд","из графы 28 КМС",{"$nulls":5},"Раздел4_1"]
[1,2,19,20,21,22,23,24,25,26,27,28,29,30,31,32,33,34,null,4]
["Итого\n(сумма строк 63 - 125)",53,{"v":57,"d":"57 "},{"v":2,"d":"2 "},0,0,{"v":3,"d":"3 "},0,{"v":1,"d":"1 "},0,{"v":106,"d":"106 "},{"v":95,"d":"95 "},{"v":13,"d":"13 "},{"v":35,"d":"35 "},{"v":5,"d":"5 "},{"v":4,"d":"4 "},{"v":2,"d":"2 "},{"v":5,"d":"5 "},null,{"$f":"Раздел4_1!D7","v":{"v":1346,"d":"1,346.00 "}}]
["    в том числе из строки 53:\n    центры спортивной \n    подготовки по\n    спорту инвалидов",54,0,0,0,0,0,0,0,0,0,0,0,0,0,0,0,0,null,{"$f":"Раздел4_1!D8","v":0}]
["    физкультурно-спортивные\n    клубы инвалидов",55,0,0,0,0,0,0,0,0,0,0,0,0,0,0,0,0,null,{"$f":"Раздел4_1!D9","v":{"v":42,"d":"42.00 "}}]
["    ДЮСАШ",56,0,0,0,0,0,0,0,0,0,0,0,0,0,0,0,0,null,{"$f":"Раздел4_1!D10","v":0}]
["    СДЮСАШ",57,0,0,0,0,0,0,0,0,0,0,0,0,0,0,0,0,null,{"$f":"Раздел4_1!D11","v":0}]
["    спортивные учреждения \n    по спорту инвалидов",58,0,0,0,0,0,0,0,0,0,0,0,0,0,0,0,0,null,{"$f":"Раздел4_1!D12","v":0}]
["    училища олимпийского резерва",59,0,0,0,0,0,0,0,0,0,0,0,0,0,0,0,0,null,{"$f":"Раздел4_1!D13","v":0}]
["    центры спортивной подготовки",60,0,0,0,0,0,0,0,0,0,0,0,0,0,0,0,0,null,{"$f":"Раздел4_1!D14","v":0}]
["    ШВСМ, СДЮШОР, \n    ДЮСШ, ДООЦ",61,0,0,0,0,0,0,0,0,0,0,0,0,0,0,0,0,null,{"$f":"Раздел4_1!D15","v":{"v":1,"d":"1.00 "}}]
["    другие учреждения \n    и организации",62,4,2,0,0,3,0,0,0,{"v":30,"d":"30 "},{"v":27,"d":"27 "},8,8,0,3,0,2,null,{"$f":"Раздел4_1!D16","v":{"v":860,"d":"860.00 "}}]
["Академическая гребля",63,0,"X","X",0,0,"X","X",0,0,0,0,0,0,0,0,0,null,{"$f":"Раздел4_1!D17","v":0}]
["Армрестлинг",64,"X","X",0,0,"X","X",0,0,0,0,0,0,0,0,0,0]
["Армспорт",65,"X",0,"X","X","X",0,"X","X",0,0,0,0,0,0,0,0,null,{"$f":"Раздел4_1!D19","v":0}]
["Бадминтон",66,0,"X",0,0,0,"X",0,0,0,0,0,0,0,0,0,0,null,{"$f":"Раздел4_1!D20","v":0}]
["Баскетбол",67,0,"X",0,"X",0,"X",0,"X",0,0,0,0,0,0,0,0,null,{"$f":"Раздел4_1!D21","v":{"v":80,"d":"80.00 "}}]
["Баскетбол 3 х 3",68,0,"X","X","X",0,"X","X","X",0,0,0,0,0,0,0,0]
["Баскетбол на колясках",69,"X","X","X",0,"X","X","X",0,0,0,0,0,0,0,0,0,null,{"$f":"Раздел4_1!D23","v":0}]
["Биатлон",70,"X",2,"X",0,"X",0,"X",0,{"v":6,"d":"6 "},{"v":6,"d":"6 "},2,4,0,0,0,1,null,{"$f":"Раздел4_1!D24","v":{"v":6,"d":"6.00 "}}]
["Борьба",71,"X",0,"X","X","X",0,"X","X",0,0,0,0,0,0,0,0,null,{"$f":"Раздел4_1!D25","v":0}]
["Боулинг",72,"X","X",0,"X","X","X",0,"X",0,0,0,0,0,0,0,0,null,{"$f":"Раздел4_1!D26","v":0}]
["Боулинг 10",73,"X",0,"X","X","X",0,"X","X",0,0,0,0,0,0,0,0,null,{"$f":"Раздел4_1!D27","v":0}]
["Бочча",74,"X","X","X",0,"X","X","X",0,0,0,0,0,0,0,0,0,null,{"$f":"Раздел4_1!D28","v":{"v":53,"d":"53.00 "}}]
["Велоспорт - маунтинбайк",75,"X","X",0,"X","X","X",0,"X",0,0,0,0,0,0,0,0,null,{"$f":"Раздел4_1!D29","v":0}]
["Велоспорт - тандем",76,"X",0,"X","X","X",0,"X","X",0,0,0,0,0,0,0,0,null,{"$f":"Раздел4_1!D30","v":{"v":1,"d":"1.00 "}}]
["Велоспорт - шоссе, трек",77,0,"X",0,0,0,"X",0,0,0,0,0,0,0,0,0,0,null,{"$f":"Раздел4_1!D31","v":0}]
["Волейбол 6 x 6",78,"X","X",0,"X","X","X",0,"X",0,0,0,0,0,0,0,0,null,{"$f":"Раздел4_1!D32","v":{"v":3,"d":"3.00 "}}]
["Волейбол пляжный",79,"X","X",0,"X","X","X",0,"X",0,0,0,0,0,0,0,0,null,{"$f":"Раздел4_1!D33","v":0}]
["Волейбол сидя",80,"X","X","X",0,"X","X","X",0,0,0,0,0,0,0,0,0,null,{"$f":"Раздел4_1!D34","v":0}]
["Вольная борьба",81,"X","X",0,"X","X","X",0,"X",0,0,0,0,0,0,0,0,null,{"$f":"Раздел4_1!D35","v":0}]
["Гандбол",82,0,"X",0,"X",0,"X",0,"X",0,0,0,0,0,0,0,0,null,{"$f":"Раздел4_1!D36","v":0}]
["Голбол (B1, B2, B3)",83,"X",0,"X","X","X",0,"X","X",0,0,0,0,0,0,0,0,null,{"$f":"Раздел4_1!D37","v":0}]
["Гольф",84,"X","X",0,"X","X","X",0,"X",0,0,0,0,0,0,0,0,null,{"$f":"Раздел4_1!D38","v":0}]
["Горнолыжный спорт",85,0,0,0,0,0,0,0,0,0,0,0,0,0,0,0,0,null,{"$f":"Раздел4_1!D39","v":0}]
["Гребля на байдарках и каноэ",86,"X","X","X",0,"X","X","X",0,0,0,0,0,0,0,0,0,null,{"$f":"Раздел4_1!D40","v":0}]
["Греко-римская борьба",87,"X","X",0,"X","X","X",0,"X",0,0,0,0,0,0,0,0,null,{"$f":"Раздел4_1!D41","v":0}]
["Дартс",88,"X","X","X",0,"X","X","X",0,0,0,0,0,0,0,0,0,null,{"$f":"Раздел4_1!D42","v":{"v":74,"d":"74.00 "}}]
["Дзюдо",89,0,0,0,"X",0,0,1,"X",{"v":1,"d":"1 "},0,0,0,0,0,1,0,null,{"$f":"Раздел4_1!D43","v":{"v":1,"d":"1.00 "}}]
["Каратэ",90,"X","X",0,"X","X","X",0,"X",0,0,0,0,0,0,0,0,null,{"$f":"Раздел4_1!D44","v":0}]
["Керлинг 4 x 4",91,"X","X",0,"X","X","X",0,"X",0,0,0,0,0,0,0,0,null,{"$f":"Раздел4_1!D45","v":0}]
["Керлинг на колясках",92,"X","X","X",0,"X","X","X",0,0,0,0,0,0,0,0,0,null,{"$f":"Раздел4_1!D46","v":0}]
["Конный спорт",93,0,"X","X",0,0,"X","X",0,0,0,0,0,0,0,0,0,null,{"$f":"Раздел4_1!D47","v":0}]
["Легкая атлетика",94,0,0,0,0,0,0,0,0,0,0,0,0,0,0,0,0,null,{"$f":"Раздел4_1!D48","v":{"v":409,"d":"409.00 "}}]
["Лыжные гонки",95,4,0,0,0,3,0,0,0,{"v":24,"d":"24 "},{"v":21,"d":"21 "},6,4,0,3,0,1,null,{"$f":"Раздел4_1!D49","v":{"v":277,"d":"277.00 "}}]
["Мини-футбол (футзал)",96,12,"X",0,"X",0,"X",0,"X",{"v":12,"d":"12 "},{"v":7,"d":"7 "},0,7,5,0,0,0]
["Мини-футбол (футзал) 5 x 5 (B1, B2, B3)",97,"X",0,"X","X","X",0,"X","X",0,0,0,0,0,0,0,0,null,{"$f":"Раздел4_1!D51","v":0}]
["Настольный теннис",98,0,0,0,0,0,0,0,0,0,0,0,0,0,0,0,0,null,{"$f":"Раздел4_1!D52","v":{"v":64,"d":"64.00 "}}]
["Парусный спорт",99,"X","X","X",0,"X","X","X",0,0,0,0,0,0,0,0,0,null,{"$f":"Раздел4_1!D53","v":0}]
["Пауэрлифтинг",100,0,0,"X",0,0,0,"X",0,0,0,0,0,0,0,0,0,null,{"$f":"Раздел4_1!D54","v":{"v":34,"d":"34.00 "}}]
["Плавание",101,41,0,0,0,0,0,0,0,{"v":63,"d":"63 "},{"v":61,"d":"61 "},5,20,0,1,1,3,null,{"$f":"Раздел4_1!D55","v":{"v":77,"d":"77.00 "}}]
["Пулевая стрельба",102,"X",0,0,0,"X",0,0,0,0,0,0,0,0,0,0,0,null,{"$f":"Раздел4_1!D56","v":{"v":6,"d":"6.00 "}}]
["Самбо",103,"X",0,0,"X","X",0,0,"X",0,0,0,0,0,0,0,0]
["Сноуборд",104,"X","X",0,0,"X","X",0,0,0,0,0,0,0,0,0,0,null,{"$f":"Раздел4_1!D58","v":0}]
["Спортивная гимнастика",105,0,"X","X","X",0,"X","X","X",0,0,0,0,0,0,0,0,null,{"$f":"Раздел4_1!D59","v":0}]
["Регби на колясках",106,"X","X","X","X","X","X","X","X",0,0,0,0,0,0,0,0,null,{"$f":"Раздел4_1!D60","v":0}]
["Спортивное ориентирование",107,"X","X",0,0,"X","X",0,0,0,0,0,0,0,0,0,0,null,{"$f":"Раздел4_1!D61","v":0}]
["Спортивный туризм",108,"X",0,"X","X","X",0,"X","X",0,0,0,0,0,0,0,0,null,{"$f":"Раздел4_1!D62","v":0}]
["Стрельба из лука",109,"X","X","X",0,"X","X","X",0,0,0,0,0,0,0,0,0,null,{"$f":"Раздел4_1!D63","v":0}]
["Танцы на колясках",110,"X","X","X",0,"X","X","X",0,0,0,0,0,0,0,0,0,null,{"$f":"Раздел4_1!D64","v":0}]
["Теннис",111,0,"X",0,"X",0,"X",0,"X",0,0,0,0,0,0,0,0,null,{"$f":"Раздел4_1!D65","v":{"v":3,"d":"3.00 "}}]
["Теннис на колясках",112,"X","X","X",0,"X","X","X",0,0,0,0,0,0,0,0,0,null,{"$f":"Раздел4_1!D66","v":0}]
["Триатлон",113,"X","X","X",0,"X","X","X",0,0,0,0,0,0,0,0,0,null,{"$f":"Раздел4_1!D67","v":0}]
["Торбал (B1, B2, B3)",114,"X",0,"X","X","X",0,"X","X",0,0,0,0,0,0,0,0,null,{"$f":"Раздел4_1!D68","v":0}]
["Тхэквондо",115,0,"X",0,0,0,"X",0,0,0,0,0,0,0,0,0,0,null,{"$f":"Раздел4_1!D69","v":0}]
["Фехтование",116,"X","X","X",0,"X","X","X",0,0,0,0,0,0,0,0,0,null,{"$f":"Раздел4_1!D70","v":0}]
["Футбол",117,0,"X","X","X",0,"X","X","X",0,0,0,0,0,0,0,0,null,{"$f":"Раздел4_1!D71","v":{"v":38,"d":"38.00 "}}]
["Футбол 11 x 11",118,"X","X",0,"X","X","X",0,"X",0,0,0,0,0,0,0,0,null,{"$f":"Раздел4_1!D72","v":0}]
["Футбол ампутантов",119,"X","X","X",0,"X","X","X",0,0,0,0,0,0,0,0,0,null,{"$f":"Раздел4_1!D73","v":0}]
["Футбол лиц с заболеванием ЦП",120,"X","X","X",0,"X","X","X",0,0,0,0,0,0,0,0,0,null,{"$f":"Раздел4_1!D74","v":0}]
["Хоккей (6 x 6)",121,"X","X",0,"X","X","X",0,"X",0,0,0,0,0,0,0,0,null,{"$f":"Раздел4_1!D75","v":0}]
["Хоккей-следж",122,"X","X","X",0,"X","X","X",0,0,0,0,0,0,0,0,0,null,{"$f":"Раздел4_1!D76","v":0}]
["Шахматы",123,"X",0,0,0,"X",0,0,0,0,0,0,0,0,0,0,0,null,{"$f":"Раздел4_1!D77","v":{"v":26,"d":"26.00 "}}]
["Шашки",124,"X",0,0,0,"X",0,0,0,0,0,0,0,0,0,0,0,null,{"$f":"Раздел4_1!D78","v":{"v":30,"d":"30.00 "}}]
["Другие виды спорта (спортивные дисциплины), не входящие в виды спорта инвалидов",125,0,0,0,0,0,0,0,0,0,0,0,0,0,0,0,0,null,{"$f":"Раздел4_1!D79","v":{"v":123,"d":"123.00 "}}]
["Из строки 53 - в сельской местности",126,0,0,0,0,0,0,0,0,0,0,0,0,0,0,0,0,null,{"$f":"Раздел4_1!D80","v":{"v":170,"d":"170.00 "}}]

{"sheet":"Раздел5","index":6,"n_rows":7,"n_cols":20,"rows_kept":7,"merged":[[0,0,0,19],[1,0,1,19],[2,0,4,0],[2,1,4,1],[2,2,4,2],[2,3,3,15],[2,16,2,19],[3,16,3,18],[3,19,4,19]]}
["Раздел V. Численность занимающихся по программам спортивной подготовки в физкультурно-спортивных организациях детей-инвалидов в возрасте от 5 до 18 лет"]
["Коды по ОКЕИ: человек - 792"]
["Наименование показателя","№ стро-ки","всего","Возрастной состав занимающихся (число полных лет по состоянию на 31 декабря отчетного года)",{"$nulls":12},"Распределение численности занимающихся по источникам финансирования"]
[{"$nulls":16},"За счет бюджетных ассигнований:",null,null,"По договорам об оказании платных образовательных услуг, услуг по спортивной подготовке"]
[{"$nulls":3},5,6,7,8,9,10,11,12,13,14,15,16,17,"федерального бюджета","бюджета субъекта Российской Федерации","местного бюджета"]
[1,2,3,4,5,6,7,8,9,10,11,12,13,14,15,16,17,18,19,20]
["Численность занимающихся по программам спортивной подготовки в физкультурно-спортивных организациях",127,{"v":274,"d":"274 "},0,0,3,14,14,23,32,37,36,35,33,17,30,0,274,0,0]

{"sheet":"Раздел6","index":7,"n_rows":22,"n_cols":7,"rows_kept":22,"merged":[[0,0,0,6],[1,0,1,6],[2,0,3,0],[2,1,3,1],[2,2,3,2],[2,3,2,6],[17,1,17,2],[17,3,17,4],[17,5,17,6],[18,1,18,2],[18,3,18,4],[18,5,18,6],[20,1,20,2],[20,3,20,4],[20,5,20,6],[21,1,21,2],[21,3,21,4],[21,5,21,6]]}
["Раздел VI. Спортивное мастерство среди инвалидов"]
["Код по ОКЕИ: человек — 792"]
["Разряды, звания, награды","№ строки","Всего","из них (гр. 3): "]
[{"$nulls":3},"Спорт лиц с интеллектуальными нарушениями","Спорт слепых","Спорт глухих","Спорт лиц с поражением ОДА"]
[1,2,3,4,5,6,7]
["Присвоено званий - всего \n(сумма строк 129 - 131)",128,{"v":1,"d":"1 "},{"v":1,"d":"1 "},0,0,0]
["в том числе:\n- МС",129,0,0,0,0,0]
["- МСМК и Гроссмейстер России",130,0,0,0,0,0]
["- ЗМС",131,{"v":1,"d":"1 "},{"v":1,"d":"1 "},0,0,0]
["Подготовлено спортсменов массовых разрядов",132,{"v":49,"d":"49 "},{"v":39,"d":"39 "},{"v":1,"d":"1 "},{"v":9,"d":"9 "},0]
["из них:\n- КМС",133,{"v":11,"d":"11 "},{"v":9,"d":"9 "},{"v":1,"d":"1 "},{"v":1,"d":"1 "},0]
["- I разряд",134,{"v":9,"d":"9 "},{"v":7,"d":"7 "},{"v":1,"d":"1 "},{"v":1,"d":"1 "},0]
["Присвоено званий - ЗТР",135,{"v":1,"d":"1 "},{"v":1,"d":"1 "},0,0,0]
["Присвоено званий - ЗРФК",136,0,0,0,0,0]
["Присуждены другие государственные почетные звания и награды",137,0,0,0,0,0]
["Присуждены почетные звания и награды субъекта Российской Федерации",138,0,0,0,0,0]
[]
["Должностное            лицо,\n  ответственное за предоставление\n  первичных статистических данных\n  (лицо,           уполномоченное\n  предоставлять         первичные\n  статистические  данные от имени\n  юридического лица)               \n","Министр спорта и молодежной политики Кировской области",null,"Г.А. Барминов"]
[null,"(должность)",null,"(Ф.И.О.)",null,"(подпись)"]
[]
[null,"8(8332)27-27-28 (доб. 2800)"]
[null,"(номер контактного телефона) ",null,"E-mail:",null,"(дата составления документа) "]